BEGIN:VCALENDAR
VERSION:2.0
PRODID:-//Young Professionals of Sexual and Reproductive Health - ECPv6.15.20//NONSGML v1.0//EN
CALSCALE:GREGORIAN
METHOD:PUBLISH
X-ORIGINAL-URL:https://ypsrh.org
X-WR-CALDESC:Events for Young Professionals of Sexual and Reproductive Health
REFRESH-INTERVAL;VALUE=DURATION:PT1H
X-Robots-Tag:noindex
X-PUBLISHED-TTL:PT1H
BEGIN:VTIMEZONE
TZID:America/New_York
BEGIN:DAYLIGHT
TZOFFSETFROM:-0500
TZOFFSETTO:-0400
TZNAME:EDT
DTSTART:20220313T070000
END:DAYLIGHT
BEGIN:STANDARD
TZOFFSETFROM:-0400
TZOFFSETTO:-0500
TZNAME:EST
DTSTART:20221106T060000
END:STANDARD
BEGIN:DAYLIGHT
TZOFFSETFROM:-0500
TZOFFSETTO:-0400
TZNAME:EDT
DTSTART:20230312T070000
END:DAYLIGHT
BEGIN:STANDARD
TZOFFSETFROM:-0400
TZOFFSETTO:-0500
TZNAME:EST
DTSTART:20231105T060000
END:STANDARD
BEGIN:DAYLIGHT
TZOFFSETFROM:-0500
TZOFFSETTO:-0400
TZNAME:EDT
DTSTART:20240310T070000
END:DAYLIGHT
BEGIN:STANDARD
TZOFFSETFROM:-0400
TZOFFSETTO:-0500
TZNAME:EST
DTSTART:20241103T060000
END:STANDARD
END:VTIMEZONE
BEGIN:VEVENT
DTSTART;TZID=America/New_York:20231211T200000
DTEND;TZID=America/New_York:20231211T220000
DTSTAMP:20260423T121619
CREATED:20231004T182354Z
LAST-MODIFIED:20231004T182429Z
UID:212-1702324800-1702332000@ypsrh.org
SUMMARY:Member Mixer - All About Sex Education
DESCRIPTION:
URL:https://ypsrh.org/event/member-mixer-all-about-sex-education/
CATEGORIES:Member Mixer
END:VEVENT
BEGIN:VEVENT
DTSTART;TZID=America/New_York:20231211T200000
DTEND;TZID=America/New_York:20231211T210000
DTSTAMP:20260423T121619
CREATED:20230928T142521Z
LAST-MODIFIED:20231004T182435Z
UID:203-1702324800-1702328400@ypsrh.org
SUMMARY:December Member Mixer
DESCRIPTION:
URL:https://ypsrh.org/event/december-member-mixer/
CATEGORIES:Member Mixer
END:VEVENT
BEGIN:VEVENT
DTSTART;TZID=America/New_York:20231128T200000
DTEND;TZID=America/New_York:20231128T210000
DTSTAMP:20260423T121619
CREATED:20230727T122959Z
LAST-MODIFIED:20231004T182447Z
UID:182-1701201600-1701205200@ypsrh.org
SUMMARY:Member Mixer - Policy & Politics
DESCRIPTION:
URL:https://ypsrh.org/event/member-mixer-policy-politics/
CATEGORIES:Networking
END:VEVENT
BEGIN:VEVENT
DTSTART;TZID=America/New_York:20231030T200000
DTEND;TZID=America/New_York:20231030T210000
DTSTAMP:20260423T121619
CREATED:20230727T122914Z
LAST-MODIFIED:20231004T182447Z
UID:180-1698696000-1698699600@ypsrh.org
SUMMARY:Member Mixer - Women's Health Month
DESCRIPTION:Plan on talking all things women’s health – reproductive health\, fertility\, contraception\, pleasure\, menstruation\, and more!
URL:https://ypsrh.org/event/member-mixer-womens-health-month/
CATEGORIES:Networking
END:VEVENT
BEGIN:VEVENT
DTSTART;TZID=America/New_York:20231009T120000
DTEND;TZID=America/New_York:20231009T130000
DTSTAMP:20260423T121619
CREATED:20230928T143048Z
LAST-MODIFIED:20231004T182447Z
UID:210-1696852800-1696856400@ypsrh.org
SUMMARY:Women’s Health Month
DESCRIPTION:Royze Cachero\nAs passionate about healthcare and leadership\, I have dedicated my career to healthcare with a keen interest in women’s health\, the continuum of care\, and mentorship. With a strong background in the healthcare industry\, I have also channeled my expertise toward empowering individuals through leadership development and mentorship projects. My work in health care has instilled in me a profound sense of compassion and empathy\, driving me to advocate for the well-being and rights of underrepresented populations. By actively engaging in initiatives that promote women’s health and education\, and by supporting and empowering immigrants in their journey towards integration\, I strive to create a more inclusive and equitable society. Through mentorship\, I aim to inspire and guide future leaders\, nurturing a generation committed to positive change and social impact. With an unwavering commitment to uplifting others\, I am resolute in my pursuit of a more just and equitable world.
URL:https://ypsrh.org/event/womens-health-month/
CATEGORIES:Speaker Series
END:VEVENT
BEGIN:VEVENT
DTSTART;TZID=America/New_York:20230919T200000
DTEND;TZID=America/New_York:20230919T210000
DTSTAMP:20260423T121619
CREATED:20230928T142658Z
LAST-MODIFIED:20231004T182448Z
UID:202-1695153600-1695157200@ypsrh.org
SUMMARY:Dr. Neelam Punjani & Dr. Kineka J. Hull
DESCRIPTION:Dr. Neelam Punjani completed her BScN and MScN from Aga Khan University School of Nursing and Midwifery from Karachi\, Pakistan. Shortly after\, she began working actively within the community advocating for young people’s sexual and reproductive health and rights. Her career journey has been primarily focused on advocating for Women’s and Children’s sexual and reproductive health and rights. Her research interest includes promoting positive sexual health outcomes among children and young adults. Her program of research focuses on developing innovative digital knowledge translation tools that can better support parents in providing age-appropriate and gender-oriented sexuality education to their children to improve outcomes for children\, their families\, and the health care system. In her research\, She merge synthesized literature\, parents’ experiences through participatory action research and combine it with art-based approaches. Her goal is to do critical advancements in patient engagement and nursing science through the development of new research approaches and knowledge translation activities. \nKineka J. Hull\, PhD\, MS\, MSPH\, is an educator and public health professional with 15 years of experience in public health research and practice and 21 years of experience in higher education. Dr. Hull is experienced in academic affairs and educational leadership\, curriculum development\, community-based participatory research\, grant writing\, budget management\, staff training and supervision\, program development\, program implementation\, program management\, participant recruitment\, project sustainability and succession planning\, and instructional technology. She is highly skilled in community organization and building\, with experience developing community advisory boards\, youth boards\, and taskforce comprised of diverse stakeholders designed to serve underserved\, vulnerable\, and rural populations. \nDr. Hull’s main areas of research interest are adolescent and youth risk behaviors\, including sexual risk behaviors\, healthy relationships\, and sexual abuse prevention\, including human trafficking. She is certified as an educator and trainer on several evidence-based curricula aligned to her research interest.
URL:https://ypsrh.org/event/dr-neelam-punjani-dr-kineka-j-hull/
CATEGORIES:Speaker Series
ATTACH;FMTTYPE=image/jpeg:https://ypsrh.org/wp-content/uploads/2023/09/unnamed.jpg
END:VEVENT
BEGIN:VEVENT
DTSTART;TZID=America/New_York:20230919T200000
DTEND;TZID=America/New_York:20230919T210000
DTSTAMP:20260423T121619
CREATED:20230727T122638Z
LAST-MODIFIED:20231004T182448Z
UID:178-1695153600-1695157200@ypsrh.org
SUMMARY:Member Mixer - Sexual Awareness Month
DESCRIPTION:
URL:https://ypsrh.org/event/member-mixer-sexual-awareness-month/
CATEGORIES:Networking
END:VEVENT
BEGIN:VEVENT
DTSTART;TZID=America/New_York:20230822T200000
DTEND;TZID=America/New_York:20230822T210000
DTSTAMP:20260423T121619
CREATED:20230727T122506Z
LAST-MODIFIED:20231004T182448Z
UID:176-1692734400-1692738000@ypsrh.org
SUMMARY:Member Mixer: Welcome Back!
DESCRIPTION:This is an opportunity for our members – former and current – to network with each other as we get things started back up!
URL:https://ypsrh.org/event/member-mixer-welcome-back/
CATEGORIES:Networking
ORGANIZER;CN="Young Professionals of Sexual and Reproductive Health":MAILTO:Youngprofessionalsofsrh@gmail.com
END:VEVENT
BEGIN:VEVENT
DTSTART;TZID=America/New_York:20230818T130000
DTEND;TZID=America/New_York:20230818T140000
DTSTAMP:20260423T121619
CREATED:20230727T121852Z
LAST-MODIFIED:20231004T182448Z
UID:171-1692363600-1692367200@ypsrh.org
SUMMARY:Blake Flaugher\, MPH\, CHES
DESCRIPTION:Blake has more than 12 years of experience using public health strategies to improve the sexual health of young adults. For 5 years\, he worked as an HIV Prevention Specialist at AVOL (AIDS Volunteers\, Inc.)\, where he conducted outreach\, HIV testing and education throughout central and eastern Kentucky. He has been in the college health field full-time for over 6 years as a Health Promotion Specialist in the student health centers at University of Kentucky and University of California\, Davis. He has co-authored multiple pieces of professional guidance to support young adult sexual health through the American College Health Association — for which he served as Chair of ACHA’s Sexual Health Coalition for two years. He is currently Chair of ACHA’s Promoting LGBTQIA+ Equity Task Force.
URL:https://ypsrh.org/event/blake-flaugher-mph-ches/
CATEGORIES:Speaker Series
ATTACH;FMTTYPE=image/jpeg:https://ypsrh.org/wp-content/uploads/2023/07/Blake_Flaugher.jpg
ORGANIZER;CN="Young Professionals of Sexual and Reproductive Health":MAILTO:Youngprofessionalsofsrh@gmail.com
END:VEVENT
BEGIN:VEVENT
DTSTART;TZID=America/New_York:20230522T150000
DTEND;TZID=America/New_York:20230522T160000
DTSTAMP:20260423T121619
CREATED:20230323T141748Z
LAST-MODIFIED:20231004T182448Z
UID:146-1684767600-1684771200@ypsrh.org
SUMMARY:De'Ajane Terrell
DESCRIPTION:
URL:https://ypsrh.org/event/deajane-terrell/
END:VEVENT
BEGIN:VEVENT
DTSTART;TZID=America/New_York:20230509T130000
DTEND;TZID=America/New_York:20230509T140000
DTSTAMP:20260423T121619
CREATED:20230215T151847Z
LAST-MODIFIED:20231004T182448Z
UID:131-1683637200-1683640800@ypsrh.org
SUMMARY:PJ Livett
DESCRIPTION:
URL:https://ypsrh.org/event/pj-livett/
CATEGORIES:Speaker Series
ORGANIZER;CN="Young Professionals of Sexual and Reproductive Health":MAILTO:Youngprofessionalsofsrh@gmail.com
END:VEVENT
BEGIN:VEVENT
DTSTART;TZID=America/New_York:20230425T193000
DTEND;TZID=America/New_York:20230425T203000
DTSTAMP:20260423T121619
CREATED:20230105T222932Z
LAST-MODIFIED:20230112T151921Z
UID:97-1682451000-1682454600@ypsrh.org
SUMMARY:Member Networking Meeting
DESCRIPTION:
URL:https://ypsrh.org/event/member-networking-meeting-2/
CATEGORIES:Networking
END:VEVENT
BEGIN:VEVENT
DTSTART;TZID=America/New_York:20230419T200000
DTEND;TZID=America/New_York:20230419T210000
DTSTAMP:20260423T121619
CREATED:20230302T161256Z
LAST-MODIFIED:20230419T200244Z
UID:140-1681934400-1681938000@ypsrh.org
SUMMARY:Javay Frye-Nkroasova\, MEd
DESCRIPTION:I am a Black\, bisexual\, sex educator. I use she/her pronouns. I was born in Washington\, DC and grew up in PG County & Charles County\, MD. I currently live in Bend\, OR with my husband and our two dogs\, Boris & Igor. I am a sex educator\, content creator\, writer\, erotic model\, and activist. \nI went to James Madison University where I earned a BA in Media Arts & Design and a BS in Hospitality Management. After graduating undergrad I moved to Los Angeles\, CA to work in the entertainment industry. While in LA\, I started my YouTube channel with my first web series\, The Honest Millennial. Throughout my time in LA I realized that sex was my passion. I began working at the sex shop\, A Touch of Romance\, and decided I wanted to continue down this career path. I launched my sex ed web series\, In Bed With a Millennial\, and decided to apply to grad school to become the best sex educator I could be. \nI recently completed my Masters of Education in Sex Education at Widener University. I am currently working on a PhD in Human Sexuality and a PhD in Media Psychology. I am continuing my education to become an even greater sex educator and continue to educate people and bringing pleasure to everyone. \nRegister Here
URL:https://ypsrh.org/event/javay-frye-nkroasova-med/
CATEGORIES:Speaker Series
ATTACH;FMTTYPE=image/jpeg:https://ypsrh.org/wp-content/uploads/2023/03/334021839_751171163015642_6445648239889023091_n-e1677773731767.jpg
ORGANIZER;CN="Young Professionals of Sexual and Reproductive Health":MAILTO:Youngprofessionalsofsrh@gmail.com
END:VEVENT
BEGIN:VEVENT
DTSTART;TZID=America/New_York:20230321T200000
DTEND;TZID=America/New_York:20230321T210000
DTSTAMP:20260423T121619
CREATED:20230215T151419Z
LAST-MODIFIED:20230302T153021Z
UID:128-1679428800-1679432400@ypsrh.org
SUMMARY:Phoenix Mandel
DESCRIPTION:
URL:https://ypsrh.org/event/phoenix-mandel/
CATEGORIES:Speaker Series
ATTACH;FMTTYPE=image/jpeg:https://ypsrh.org/wp-content/uploads/2023/02/FB_IMG_1674242473615.jpg
ORGANIZER;CN="Young Professionals of Sexual and Reproductive Health":MAILTO:Youngprofessionalsofsrh@gmail.com
END:VEVENT
BEGIN:VEVENT
DTSTART;TZID=America/New_York:20230228T193000
DTEND;TZID=America/New_York:20230228T203000
DTSTAMP:20260423T121619
CREATED:20230105T222727Z
LAST-MODIFIED:20230220T212022Z
UID:95-1677612600-1677616200@ypsrh.org
SUMMARY:Member Mixer
DESCRIPTION:Join us February 28 from 6:30pm – 7:30pm CST for our FIRST (virtual) Member Mixer! Come meet other YPSRH members and learn about their work in Sexual and Reproductive Health during this one hour meet and greet! \nZoom Link: https://ua-edu.zoom.us/meeting/register/tZMkfuirrj0iGdZyK5264_eeRkeEw5wKCcXd
URL:https://ypsrh.org/event/member-mixer/
CATEGORIES:Networking
END:VEVENT
BEGIN:VEVENT
DTSTART;TZID=America/New_York:20230216T120000
DTEND;TZID=America/New_York:20230216T130000
DTSTAMP:20260423T121619
CREATED:20221229T024401Z
LAST-MODIFIED:20230119T192629Z
UID:56-1676548800-1676552400@ypsrh.org
SUMMARY:Leslie Massicotte
DESCRIPTION:Leslie Massicotte\, M.Ed. (she/they) is a sexuality educator and consultant with over 15 years of experience working with youth and a Master’s in Human Sexuality. She has taught sex education in classroom\, clinic\, and community settings both domestically and internationally\, with a focus on youth\, adults who work with youth\, and parents/guardians. Leslie currently works for the local health department in Raleigh\, NC\, as a women’s health and childbirth educator. \n  \nJoin Us on Zoom
URL:https://ypsrh.org/event/leslie-massicotte/
CATEGORIES:Speaker Series,Webinar
ORGANIZER;CN="Young Professionals of Sexual and Reproductive Health":MAILTO:Youngprofessionalsofsrh@gmail.com
END:VEVENT
BEGIN:VEVENT
DTSTART;TZID=America/New_York:20230131T190000
DTEND;TZID=America/New_York:20230131T200000
DTSTAMP:20260423T121619
CREATED:20221229T025358Z
LAST-MODIFIED:20230130T173933Z
UID:75-1675191600-1675195200@ypsrh.org
SUMMARY:Dr. Ashley Townes
DESCRIPTION:
URL:https://ypsrh.org/event/dr-ashley-townes/
CATEGORIES:Webinar
ORGANIZER;CN="Young Professionals of Sexual and Reproductive Health":MAILTO:Youngprofessionalsofsrh@gmail.com
END:VEVENT
BEGIN:VEVENT
DTSTART;TZID=America/New_York:20230123T190000
DTEND;TZID=America/New_York:20230123T200000
DTSTAMP:20260423T121619
CREATED:20221229T024014Z
LAST-MODIFIED:20230117T172058Z
UID:51-1674500400-1674504000@ypsrh.org
SUMMARY:Dr. Eric Goodcase
DESCRIPTION:Eric Goodcase\, PhD\, LMFT is a Project Coordinator with VitAL Alabama\, a group dedicated to improving mental health within the state of Alabama. Dr. Goodcase received a PhD in Marriage and Family Therapy from Kansas State University\, is a Licensed Marriage and Family Therapist in the state of Alabama\, and an American Association of Marriage and Family Therapy Approved Supervisor. He has published research on a variety of topics including romantic relationships\, intimate partner violence\, and mental health. Dr. Goodcase is passionate about public scholarship and currently volunteers with a group called Relevate\, which is dedicated to improving the public’s knowledge of relationship science. He currently hosts a podcast called Relevate Presents: Scholars Ship which interviews relationship scientists about how their research relates to TV and Movie couples. He also teaches Human Sexuality at the University of Alabama and was appointed to the Board of Directors for the Alabama Campaign for Adolescent Sexual Health. \nJoin Us: https://ua-edu.zoom.us/meeting/register/tZItdO2srTkpH9DT_GpfNLIh_nmrINRppLPe
URL:https://ypsrh.org/event/dr-eric-goodcase/
CATEGORIES:Webinar
ORGANIZER;CN="Young Professionals of Sexual and Reproductive Health":MAILTO:Youngprofessionalsofsrh@gmail.com
END:VEVENT
END:VCALENDAR